BEGIN:VCALENDAR
VERSION:2.0
PRODID:-//gsmfc.org//NONSGML kigkonsult.se iCalcreator 2.41.92//
CALSCALE:GREGORIAN
METHOD:PUBLISH
UID:36373261-3032-4166-b233-343830313431
X-WR-TIMEZONE:America/Chicago
BEGIN:VTIMEZONE
TZID:America/Chicago
TZUNTIL:20311102T070000Z
BEGIN:STANDARD
TZNAME:CST
DTSTART:20281105T020000
TZOFFSETFROM:-0500
TZOFFSETTO:-0600
RDATE:20291104T020000
RDATE:20301103T020000
END:STANDARD
BEGIN:DAYLIGHT
TZNAME:CDT
DTSTART:20290311T020000
TZOFFSETFROM:-0600
TZOFFSETTO:-0500
RDATE:20300310T020000
RDATE:20310309T020000
END:DAYLIGHT
END:VTIMEZONE
BEGIN:VEVENT
UID:64643938-3562-4435-a539-366337633539
DTSTAMP:20260424T121336Z
CLASS:PUBLIC
COMMENT:GSMFC 80th Annual Meeting
DESCRIPTION:Oct 15 - Oct 18\, 2029\n\n\n\, MS\n\nFor additional information
 \, contact Nancy Marcellus at nmarcellus@gsmfc.org or see our website (htt
 ps://www.gsmfc.org)
DTSTART;TZID=America/Chicago:20291015T080000
DTEND;TZID=America/Chicago:20291018T170000
LOCATION:
ORGANIZER;CN=Nancy Marcellus:mailto:nmarcellus@gsmfc.org
SEQUENCE:1
SUMMARY:GSMFC 80th Annual Meeting
TRANSP:OPAQUE
END:VEVENT
END:VCALENDAR
