BEGIN:VCALENDAR
VERSION:2.0
PRODID:-//gsmfc.org//NONSGML kigkonsult.se iCalcreator 2.41.92//
CALSCALE:GREGORIAN
METHOD:PUBLISH
UID:34333830-6134-4838-b866-356234353866
X-WR-TIMEZONE:America/Chicago
BEGIN:VTIMEZONE
TZID:America/Chicago
TZUNTIL:20301103T070000Z
BEGIN:STANDARD
TZNAME:CST
DTSTART:20271107T020000
TZOFFSETFROM:-0500
TZOFFSETTO:-0600
RDATE:20281105T020000
RDATE:20291104T020000
END:STANDARD
BEGIN:DAYLIGHT
TZNAME:CDT
DTSTART:20280312T020000
TZOFFSETFROM:-0600
TZOFFSETTO:-0500
RDATE:20290311T020000
RDATE:20300310T020000
END:DAYLIGHT
END:VTIMEZONE
BEGIN:VEVENT
UID:34616432-3836-4433-b761-383834326638
DTSTAMP:20260424T120859Z
CLASS:PUBLIC
COMMENT:GSMFC 79th Annual Meeting
DESCRIPTION:Oct 16 - Oct 19\, 2028\n\n\n\, LA\n\nFor additional information
 \, contact Nancy Marcellus at nmarcellus@gsmfc.org or see our website (htt
 ps://www.gsmfc.org)
DTSTART;TZID=America/Chicago:20281016T080000
DTEND;TZID=America/Chicago:20281019T170000
LOCATION:
ORGANIZER;CN=Nancy Marcellus:mailto:nmarcellus@gsmfc.org
SEQUENCE:1
SUMMARY:GSMFC 79th Annual Meeting
TRANSP:OPAQUE
END:VEVENT
END:VCALENDAR
