BEGIN:VCALENDAR
VERSION:2.0
PRODID:-//gsmfc.org//NONSGML kigkonsult.se iCalcreator 2.41.92//
CALSCALE:GREGORIAN
METHOD:PUBLISH
UID:34336431-3831-4033-a631-623838336236
X-WR-TIMEZONE:America/Chicago
BEGIN:VTIMEZONE
TZID:America/Chicago
TZUNTIL:20281105T070000Z
BEGIN:STANDARD
TZNAME:CST
DTSTART:20251102T020000
TZOFFSETFROM:-0500
TZOFFSETTO:-0600
RDATE:20261101T020000
RDATE:20271107T020000
END:STANDARD
BEGIN:DAYLIGHT
TZNAME:CDT
DTSTART:20260308T020000
TZOFFSETFROM:-0600
TZOFFSETTO:-0500
RDATE:20270314T020000
RDATE:20280312T020000
END:DAYLIGHT
END:VTIMEZONE
BEGIN:VEVENT
UID:62383736-3636-4230-b333-303438643366
DTSTAMP:20260424T121205Z
CLASS:PUBLIC
COMMENT:GSMFC 77th Annual Meeting
DESCRIPTION:Oct 12 - Oct 15\, 2026\n\n\n\, FL\n\nFor additional information
 \, contact Nancy Marcellus at nmarcellus@gsmfc.org or see our website (htt
 ps://www.gsmfc.org)
DTSTART;TZID=America/Chicago:20261012T080000
DTEND;TZID=America/Chicago:20261015T170000
LOCATION:
ORGANIZER;CN=Nancy Marcellus:mailto:nmarcellus@gsmfc.org
SEQUENCE:1
SUMMARY:GSMFC 77th Annual Meeting
TRANSP:OPAQUE
END:VEVENT
END:VCALENDAR
